BEGIN:VCALENDAR
VERSION:2.0
PRODID:-//Mountainbike Club 26 Zoll Sulzbach e. V. - ECPv6.15.20//NONSGML v1.0//EN
CALSCALE:GREGORIAN
METHOD:PUBLISH
X-ORIGINAL-URL:https://mtb-sulzbach.de
X-WR-CALDESC:Veranstaltungen für Mountainbike Club 26 Zoll Sulzbach e. V.
REFRESH-INTERVAL;VALUE=DURATION:PT1H
X-Robots-Tag:noindex
X-PUBLISHED-TTL:PT1H
BEGIN:VTIMEZONE
TZID:Europe/Berlin
BEGIN:DAYLIGHT
TZOFFSETFROM:+0100
TZOFFSETTO:+0200
TZNAME:CEST
DTSTART:20250330T010000
END:DAYLIGHT
BEGIN:STANDARD
TZOFFSETFROM:+0200
TZOFFSETTO:+0100
TZNAME:CET
DTSTART:20251026T010000
END:STANDARD
BEGIN:DAYLIGHT
TZOFFSETFROM:+0100
TZOFFSETTO:+0200
TZNAME:CEST
DTSTART:20260329T010000
END:DAYLIGHT
BEGIN:STANDARD
TZOFFSETFROM:+0200
TZOFFSETTO:+0100
TZNAME:CET
DTSTART:20261025T010000
END:STANDARD
BEGIN:DAYLIGHT
TZOFFSETFROM:+0100
TZOFFSETTO:+0200
TZNAME:CEST
DTSTART:20270328T010000
END:DAYLIGHT
BEGIN:STANDARD
TZOFFSETFROM:+0200
TZOFFSETTO:+0100
TZNAME:CET
DTSTART:20271031T010000
END:STANDARD
END:VTIMEZONE
BEGIN:VEVENT
DTSTART;TZID=Europe/Berlin:20260426T070000
DTEND;TZID=Europe/Berlin:20260426T160000
DTSTAMP:20260419T192630
CREATED:20230202T093740Z
LAST-MODIFIED:20251211T100942Z
UID:4854-1777186800-1777219200@mtb-sulzbach.de
SUMMARY:Sulzbacher Cross Country Spessart Tour 2026
DESCRIPTION:Weitere Infos hier: \nhttps://mtb-sulzbach.de/category/cross-country-spessart-tour/
URL:https://mtb-sulzbach.de/termin/sulzbacher-cross-country-spessart-tour-2025/
CATEGORIES:Biketouren,MTB Rennen / Tour
ATTACH;FMTTYPE=image/jpeg:https://mtb-sulzbach.de/wp-content/uploads/Cross-Country-Tour-Sulzbach.jpg
ORGANIZER;CN="MTB-Sulzbach e.V.":MAILTO:kontakt@mtb-sulzbach.de
END:VEVENT
BEGIN:VEVENT
DTSTART;TZID=Europe/Berlin:20260503T100000
DTEND;TZID=Europe/Berlin:20260503T130000
DTSTAMP:20260419T192630
CREATED:20250210T105811Z
LAST-MODIFIED:20251211T100544Z
UID:5292-1777802400-1777813200@mtb-sulzbach.de
SUMMARY:MTB-Sulzbach Sonntagstour für jedermann/frau
DESCRIPTION:Unser Ziel ist es\, eine tolle Mountainbiketour zusammen mit Freunden in herrlicher Natur zu genießen. Wir starten pünktlich um 10:00 Uhr am Grill & Festplatz in Sulzbach (am Sportplatz). Wenn das Wetter & die Zeit mitspielt\, steht einem anschließenden Einkehrschwung natürlich nichts im Wege! \nWer\, wie\, was?\nNicht nur Männer\, auch Frauen dürfen sich hier gerne anschließen! Wir versuchen stehts Mountainbike spezifische Touren zu fahren\, also Schotter\, Wanderwege\, Trails & Downhills und so wenig Asphalt wie möglich. Es wird sich immer nach dem Schwächsten gerichtet\, es ist kein Rennen oder eine „ich muss mich beweisen Tour“\, nein Ziel ist die GEMEINSAMKEIT! Also worauf wartet ihr noch – “lets bike together!” \nEin faires Miteinander und Touren im Einklang mit der Natur?\nDas gewährleisten wir durch unsere Verhaltensregel bei jeder Tour!\nWir freuen uns auf euch!\nMTB Club 26 Zoll Sulzbach e.V. \n\nTreffpunkt: 10:00 Uhr am Grill & Festplatz in 63834 Sulzbach am Main \n\n[Zurück zur Hauptseite]
URL:https://mtb-sulzbach.de/termin/termin-mountainbike-sonntagstour-5-2-2-2-3-2-2-2-2-2-2-2-2-2-3-2-3-2-2-2-2/
CATEGORIES:Biketouren,MTB Rennen / Tour
ATTACH;FMTTYPE=image/jpeg:https://mtb-sulzbach.de/wp-content/uploads/Gruppenbild.jpg
END:VEVENT
BEGIN:VEVENT
DTSTART;TZID=Europe/Berlin:20260530T130000
DTEND;TZID=Europe/Berlin:20260530T150000
DTSTAMP:20260419T192630
CREATED:20221024T103757Z
LAST-MODIFIED:20260406T075701Z
UID:4781-1780146000-1780153200@mtb-sulzbach.de
SUMMARY:Wenigumstadt - CTF
DESCRIPTION:Ausschreibung\n\n\n\nWann:\nSamstag\, 30. Mai 2026\n\n\nStartzeit:\n13.00–15.00 Uhr\n\n\nStartort:\nWenigumstadt am Radsportheim\nMosbacher Str. 1 gegenüber der Kirche\nZu erreichen über Autobahn A3 Frankf. – Würzburg\, Abf. Stockstadt\nGroßostheim –> Pflaumheim –> Wenigumstadt\n\n\nStrecken:\nTour 1 = 25 km;Tour 2 = 35 km \n25 km-Tourenbeschreibung als GPX-Datei herunterladen \n35 km-Tourenbeschreibung als GPX-Datei herunterladen\n\n\nVerpflegung:\nAn den Kontrollstellen werden Apfelsaft\, Z-Tee\, Wasser \, Kuchen und Obst kostenlos ausgegeben solange Vorrat reicht\n\n\nTeilnahme:\nJeder der gerne Mountainbike fährt\, Kinder bis 14 Jahren nur in Begleitung Erwachsener.\n\n\nStartgeld:\nErwachsene 8\,00 €\, mit BDR-Lizenz 6\,00 €\nSchüler bis 14 Jahre 3\,00 €\n\n\n\n  \nWeitere Infos folgen [klick]\n 
URL:https://mtb-sulzbach.de/termin/wenigumstadt-ctf/
CATEGORIES:Biketouren,MTB Rennen / Tour
END:VEVENT
BEGIN:VEVENT
DTSTART;TZID=Europe/Berlin:20260607T100000
DTEND;TZID=Europe/Berlin:20260607T130000
DTSTAMP:20260419T192630
CREATED:20250210T105755Z
LAST-MODIFIED:20251211T100609Z
UID:5290-1780826400-1780837200@mtb-sulzbach.de
SUMMARY:MTB-Sulzbach Sonntagstour für jedermann/frau
DESCRIPTION:Unser Ziel ist es\, eine tolle Mountainbiketour zusammen mit Freunden in herrlicher Natur zu genießen. Wir starten pünktlich um 10:00 Uhr am Grill & Festplatz in Sulzbach (am Sportplatz). Wenn das Wetter & die Zeit mitspielt\, steht einem anschließenden Einkehrschwung natürlich nichts im Wege! \nWer\, wie\, was?\nNicht nur Männer\, auch Frauen dürfen sich hier gerne anschließen! Wir versuchen stehts Mountainbike spezifische Touren zu fahren\, also Schotter\, Wanderwege\, Trails & Downhills und so wenig Asphalt wie möglich. Es wird sich immer nach dem Schwächsten gerichtet\, es ist kein Rennen oder eine „ich muss mich beweisen Tour“\, nein Ziel ist die GEMEINSAMKEIT! Also worauf wartet ihr noch – “lets bike together!” \nEin faires Miteinander und Touren im Einklang mit der Natur?\nDas gewährleisten wir durch unsere Verhaltensregel bei jeder Tour!\nWir freuen uns auf euch!\nMTB Club 26 Zoll Sulzbach e.V. \n\nTreffpunkt: 10:00 Uhr am Grill & Festplatz in 63834 Sulzbach am Main \n\n[Zurück zur Hauptseite]
URL:https://mtb-sulzbach.de/termin/termin-mountainbike-sonntagstour-5-2-2-2-3-2-2-2-2-2-2-2-2-2-3-2-3-2-2-2/
CATEGORIES:Biketouren,MTB Rennen / Tour
ATTACH;FMTTYPE=image/jpeg:https://mtb-sulzbach.de/wp-content/uploads/Gruppenbild.jpg
END:VEVENT
BEGIN:VEVENT
DTSTART;VALUE=DATE:20260614
DTEND;VALUE=DATE:20260616
DTSTAMP:20260419T192630
CREATED:20260113T073519Z
LAST-MODIFIED:20260406T080300Z
UID:5134-1781398800-1781485199@mtb-sulzbach.de
SUMMARY:Oberurseler Bike Marathon 2026
DESCRIPTION:Hessens größtes MTB Breitensport-Event für Hobby-Fahrer\nMit einer rasanten Entwicklung der Teilnehmerzahlen in den letzten Jahren ist der Oberurseler Bike Marathon spätestens im Jahr 2024 zu Hessens größtem MTB Breitensport-Event für Hobby-Fahrer avanciert. Rund 1.100 Bikerinnen und Bikern machen den OBM zu einem riesigen Erfolg für den Verein und die Region Hochtaunus. Mehr und mehr ist das Sportevent am hessischen Feldberg zur „Pflichtveranstaltung“ für Mountainbiker aus dem Hobby- und Amateurbereich geworden. Die Teilnehmerinnen und Teilnehmer kommen aus der hiesigen Region\, aus ganz Deutschland und teilweise sogar aus dem benachbarten Ausland nach Oberursel\, um den OBM live mitzuerleben und den Hochtaunus während einer ausgeschilderten Tour auf groben Stollen zu erkunden. \n4 Strecken zur Wahl. Flow und Fahrspaß garantiert für Genuss-Radler\, Touren-Fahrer\, Konditions-Bolzen\, E-Biker sowie Familien mit Kindern\n14\, 32\, 47 oder 71 Kilometer lang sind die abwechslungsreichen Strecken unserer Breitensportveranstaltung\, bei der kein einziger Kilometer zweimal gefahren wird. Ganz alleine du entschiedest über die Tour\, die am besten auf deine persönliche Fitness abgestimmt ist. Ohne Wettkampf und ohne Zeitnahme. Ausgewählt von unserem Trail Scout Henning\, gibt es konditionelle Bike- und Trail-Leckerbissen\, die an manchen Stellen auch das technische Fahrgeschick auf die Probe stellen. Alle Streckenabschnitte haben die Kategorie S0 bis maximal S2 und sind demnach sowohl für ambitionierte Biker als auch für Hobbyfahrer mit guter Grundkondition (fast) problemlos zu bewältigen. Und als besondere Belohnung nach dem einen oder anderen Anstieg\, der die letzten Körner aus dir rausholt\, gönnst du dir das faszinierende Taunus-Panorama mit vielen herrlichen Ausblicken auf die Banken-Metropole Frankfurt\, das Rhein-Main-Gebiet\, die Wetterau und in den Hintertaunus. Dank der Zustimmung von Hessen-Forst zeichnen sich die 47er und 71er Runde durch einen besonders hohen Trail-Anteil aus. Damit sind Flow und Fahrspaß garantiert! \n  \nInfos unter: \nOberurseler Bike Marathon 2026 \n \n 
URL:https://mtb-sulzbach.de/termin/oberurseler-bike-marathon-2/
CATEGORIES:Biketouren,MTB Rennen / Tour
END:VEVENT
BEGIN:VEVENT
DTSTART;TZID=Europe/Berlin:20260705T100000
DTEND;TZID=Europe/Berlin:20260705T130000
DTSTAMP:20260419T192630
CREATED:20250210T105733Z
LAST-MODIFIED:20251211T100633Z
UID:5288-1783245600-1783256400@mtb-sulzbach.de
SUMMARY:MTB-Sulzbach Sonntagstour für jedermann/frau
DESCRIPTION:Unser Ziel ist es\, eine tolle Mountainbiketour zusammen mit Freunden in herrlicher Natur zu genießen. Wir starten pünktlich um 10:00 Uhr am Grill & Festplatz in Sulzbach (am Sportplatz). Wenn das Wetter & die Zeit mitspielt\, steht einem anschließenden Einkehrschwung natürlich nichts im Wege! \nWer\, wie\, was?\nNicht nur Männer\, auch Frauen dürfen sich hier gerne anschließen! Wir versuchen stehts Mountainbike spezifische Touren zu fahren\, also Schotter\, Wanderwege\, Trails & Downhills und so wenig Asphalt wie möglich. Es wird sich immer nach dem Schwächsten gerichtet\, es ist kein Rennen oder eine „ich muss mich beweisen Tour“\, nein Ziel ist die GEMEINSAMKEIT! Also worauf wartet ihr noch – “lets bike together!” \nEin faires Miteinander und Touren im Einklang mit der Natur?\nDas gewährleisten wir durch unsere Verhaltensregel bei jeder Tour!\nWir freuen uns auf euch!\nMTB Club 26 Zoll Sulzbach e.V. \n\nTreffpunkt: 10:00 Uhr am Grill & Festplatz in 63834 Sulzbach am Main \n\n[Zurück zur Hauptseite]
URL:https://mtb-sulzbach.de/termin/termin-mountainbike-sonntagstour-5-2-2-2-3-2-2-2-2-2-2-2-2-2-3-2-3-2-2/
CATEGORIES:Biketouren,MTB Rennen / Tour
ATTACH;FMTTYPE=image/jpeg:https://mtb-sulzbach.de/wp-content/uploads/Gruppenbild.jpg
END:VEVENT
BEGIN:VEVENT
DTSTART;VALUE=DATE:20260712
DTEND;VALUE=DATE:20260714
DTSTAMP:20260419T192630
CREATED:20250711T073529Z
LAST-MODIFIED:20260413T131534Z
UID:5120-1783818000-1783904399@mtb-sulzbach.de
SUMMARY:MTB-RUM-Jubiläumstour Mömlingen
DESCRIPTION:Liebe Vereinsmitglieder\, liebe Bike-Freunde und RUM-Veteranen\, \nkaum zu glauben\, aber wahr: Unsere legendäre RUM-Tour (Rund um Mömlingen) wird 20 Jahre alt! Zwei Jahrzehnte voller Trails\, Schweiß\, matschiger Waden und unvergesslicher\, hochprozentiger Steigungen liegen hinter uns. \nDas wollen wir 2026 gebührend mit euch feiern! \nDaher bitten wir euch\, jetzt schon die Reifen aufzupumpen und vor allem den Kalender zu zücken. Wir planen eine Jubiläums-Edition\, die den Spirit der letzten 20 Jahre einfängt und noch eine Schippe drauflegt. Egal ob ihr von Anfang an dabei wart oder erst neu im Sattel sitzt – dieses Event dürft ihr nicht verpassen. \nWeitere Infos:  \nMTB-RUM-Jubiläumstour \n \n \n 
URL:https://mtb-sulzbach.de/termin/mtb-moemlingen-rum-tour/
CATEGORIES:MTB Rennen / Tour
END:VEVENT
BEGIN:VEVENT
DTSTART;TZID=Europe/Berlin:20260802T100000
DTEND;TZID=Europe/Berlin:20260802T130000
DTSTAMP:20260419T192630
CREATED:20250210T105546Z
LAST-MODIFIED:20251211T100700Z
UID:5285-1785664800-1785675600@mtb-sulzbach.de
SUMMARY:MTB-Sulzbach Sonntagstour für jedermann/frau
DESCRIPTION:Unser Ziel ist es\, eine tolle Mountainbiketour zusammen mit Freunden in herrlicher Natur zu genießen. Wir starten pünktlich um 10:00 Uhr am Grill & Festplatz in Sulzbach (am Sportplatz). Wenn das Wetter & die Zeit mitspielt\, steht einem anschließenden Einkehrschwung natürlich nichts im Wege! \nWer\, wie\, was?\nNicht nur Männer\, auch Frauen dürfen sich hier gerne anschließen! Wir versuchen stehts Mountainbike spezifische Touren zu fahren\, also Schotter\, Wanderwege\, Trails & Downhills und so wenig Asphalt wie möglich. Es wird sich immer nach dem Schwächsten gerichtet\, es ist kein Rennen oder eine „ich muss mich beweisen Tour“\, nein Ziel ist die GEMEINSAMKEIT! Also worauf wartet ihr noch – “lets bike together!” \nEin faires Miteinander und Touren im Einklang mit der Natur?\nDas gewährleisten wir durch unsere Verhaltensregel bei jeder Tour!\nWir freuen uns auf euch!\nMTB Club 26 Zoll Sulzbach e.V. \n\nTreffpunkt: 10:00 Uhr am Grill & Festplatz in 63834 Sulzbach am Main \n\n[Zurück zur Hauptseite]
URL:https://mtb-sulzbach.de/termin/termin-mountainbike-sonntagstour-5-2-2-2-3-2-2-2-2-2-2-2-2-2-3-2-3-2/
CATEGORIES:Biketouren,MTB Rennen / Tour
ATTACH;FMTTYPE=image/jpeg:https://mtb-sulzbach.de/wp-content/uploads/Gruppenbild.jpg
END:VEVENT
BEGIN:VEVENT
DTSTART;TZID=Europe/Berlin:20260906T090000
DTEND;TZID=Europe/Berlin:20260906T130000
DTSTAMP:20260419T192630
CREATED:20250210T105511Z
LAST-MODIFIED:20251211T100734Z
UID:5283-1788685200-1788699600@mtb-sulzbach.de
SUMMARY:MTB-Sulzbach Sonntagstour für jedermann/frau
DESCRIPTION:Achtung:  Start bereits um 9:00 Uhr ! \n  \nUnser Ziel ist es\, eine tolle Mountainbiketour zusammen mit Freunden in herrlicher Natur zu genießen. Wir starten pünktlich um 10:00 Uhr am Grill & Festplatz in Sulzbach (am Sportplatz). Wenn das Wetter & die Zeit mitspielt\, steht einem anschließenden Einkehrschwung natürlich nichts im Wege! \nWer\, wie\, was?\nNicht nur Männer\, auch Frauen dürfen sich hier gerne anschließen! Wir versuchen stehts Mountainbike spezifische Touren zu fahren\, also Schotter\, Wanderwege\, Trails & Downhills und so wenig Asphalt wie möglich. Es wird sich immer nach dem Schwächsten gerichtet\, es ist kein Rennen oder eine „ich muss mich beweisen Tour“\, nein Ziel ist die GEMEINSAMKEIT! Also worauf wartet ihr noch – “lets bike together!” \nEin faires Miteinander und Touren im Einklang mit der Natur?\nDas gewährleisten wir durch unsere Verhaltensregel bei jeder Tour!\nWir freuen uns auf euch!\nMTB Club 26 Zoll Sulzbach e.V. \n\nTreffpunkt: 09:00 Uhr am Grill & Festplatz in 63834 Sulzbach am Main \n\n[Zurück zur Hauptseite]
URL:https://mtb-sulzbach.de/termin/termin-mountainbike-sonntagstour-5-2-2-2-3-2-2-2-2-2-2-2-2-2-3-2-3/
CATEGORIES:Biketouren,MTB Rennen / Tour
ATTACH;FMTTYPE=image/jpeg:https://mtb-sulzbach.de/wp-content/uploads/Gruppenbild.jpg
END:VEVENT
BEGIN:VEVENT
DTSTART;TZID=Europe/Berlin:20261004T100000
DTEND;TZID=Europe/Berlin:20261004T130000
DTSTAMP:20260419T192630
CREATED:20240304T071203Z
LAST-MODIFIED:20251211T100811Z
UID:5081-1791108000-1791118800@mtb-sulzbach.de
SUMMARY:MTB-Sulzbach Sonntagstour für jedermann/frau
DESCRIPTION:Unser Ziel ist es\, eine tolle Mountainbiketour zusammen mit Freunden in herrlicher Natur zu genießen. Wir starten pünktlich um 10:00 Uhr am Grill & Festplatz in Sulzbach (am Sportplatz). Wenn das Wetter & die Zeit mitspielt\, steht einem anschließenden Einkehrschwung natürlich nichts im Wege! \nWer\, wie\, was?\nNicht nur Männer\, auch Frauen dürfen sich hier gerne anschließen! Wir versuchen stehts Mountainbike spezifische Touren zu fahren\, also Schotter\, Wanderwege\, Trails & Downhills und so wenig Asphalt wie möglich. Es wird sich immer nach dem Schwächsten gerichtet\, es ist kein Rennen oder eine „ich muss mich beweisen Tour“\, nein Ziel ist die GEMEINSAMKEIT! Also worauf wartet ihr noch – “lets bike together!” \nEin faires Miteinander und Touren im Einklang mit der Natur?\nDas gewährleisten wir durch unsere Verhaltensregel bei jeder Tour!\nWir freuen uns auf euch!\nMTB Club 26 Zoll Sulzbach e.V. \n\nTreffpunkt: 10:00 Uhr am Grill & Festplatz in 63834 Sulzbach am Main \n\n[Zurück zur Hauptseite]
URL:https://mtb-sulzbach.de/termin/termin-mountainbike-sonntagstour-5-2-2-2-3-2-2-2-2-2-2-2-2-2-3-2/
CATEGORIES:Biketouren,MTB Rennen / Tour
ATTACH;FMTTYPE=image/jpeg:https://mtb-sulzbach.de/wp-content/uploads/Gruppenbild.jpg
END:VEVENT
BEGIN:VEVENT
DTSTART;TZID=Europe/Berlin:20261101T100000
DTEND;TZID=Europe/Berlin:20261101T130000
DTSTAMP:20260419T192630
CREATED:20240304T071134Z
LAST-MODIFIED:20251211T100852Z
UID:5079-1793527200-1793538000@mtb-sulzbach.de
SUMMARY:MTB-Sulzbach Sonntagstour für jedermann/frau
DESCRIPTION:Unser Ziel ist es\, eine tolle Mountainbiketour zusammen mit Freunden in herrlicher Natur zu genießen. Wir starten pünktlich um 10:00 Uhr am Grill & Festplatz in Sulzbach (am Sportplatz). Wenn das Wetter & die Zeit mitspielt\, steht einem anschließenden Einkehrschwung natürlich nichts im Wege! \nWer\, wie\, was?\nNicht nur Männer\, auch Frauen dürfen sich hier gerne anschließen! Wir versuchen stehts Mountainbike spezifische Touren zu fahren\, also Schotter\, Wanderwege\, Trails & Downhills und so wenig Asphalt wie möglich. Es wird sich immer nach dem Schwächsten gerichtet\, es ist kein Rennen oder eine „ich muss mich beweisen Tour“\, nein Ziel ist die GEMEINSAMKEIT! Also worauf wartet ihr noch – “lets bike together!” \nEin faires Miteinander und Touren im Einklang mit der Natur?\nDas gewährleisten wir durch unsere Verhaltensregel bei jeder Tour!\nWir freuen uns auf euch!\nMTB Club 26 Zoll Sulzbach e.V. \n\nTreffpunkt: 10:00 Uhr am Grill & Festplatz in 63834 Sulzbach am Main \n\n 
URL:https://mtb-sulzbach.de/termin/termin-mountainbike-sonntagstour-5-2-2-2-3-2-2-2-2-2-2-2-2-2-3/
CATEGORIES:Biketouren,MTB Rennen / Tour
ATTACH;FMTTYPE=image/jpeg:https://mtb-sulzbach.de/wp-content/uploads/Gruppenbild.jpg
END:VEVENT
BEGIN:VEVENT
DTSTART;TZID=Europe/Berlin:20261206T100000
DTEND;TZID=Europe/Berlin:20261206T130000
DTSTAMP:20260419T192630
CREATED:20240304T071110Z
LAST-MODIFIED:20251211T100917Z
UID:5077-1796551200-1796562000@mtb-sulzbach.de
SUMMARY:MTB-Sulzbach Sonntagstour für jedermann/frau
DESCRIPTION:Unser Ziel ist es\, eine tolle Mountainbiketour zusammen mit Freunden in herrlicher Natur zu genießen. Wir starten pünktlich um 10:00 Uhr am Grill & Festplatz in Sulzbach (am Sportplatz). Wenn das Wetter & die Zeit mitspielt\, steht einem anschließenden Einkehrschwung natürlich nichts im Wege! \nWer\, wie\, was?\nNicht nur Männer\, auch Frauen dürfen sich hier gerne anschließen! Wir versuchen stehts Mountainbike spezifische Touren zu fahren\, also Schotter\, Wanderwege\, Trails & Downhills und so wenig Asphalt wie möglich. Es wird sich immer nach dem Schwächsten gerichtet\, es ist kein Rennen oder eine „ich muss mich beweisen Tour“\, nein Ziel ist die GEMEINSAMKEIT! Also worauf wartet ihr noch – “lets bike together!” \nEin faires Miteinander und Touren im Einklang mit der Natur?\nDas gewährleisten wir durch unsere Verhaltensregel bei jeder Tour!\nWir freuen uns auf euch!\nMTB Club 26 Zoll Sulzbach e.V. \n\nTreffpunkt: 10:00 Uhr am Grill & Festplatz in 63834 Sulzbach am Main \n\n 
URL:https://mtb-sulzbach.de/termin/termin-mountainbike-sonntagstour-5-2-2-2-3-2-2-2-2-2-2-2-2-2-2/
LOCATION:Grill & Festplatz Sulzbach am Main\, Am Sportpl. 9\, Sulzbach\, 63834\, Deutschland
CATEGORIES:Biketouren,MTB Rennen / Tour
ATTACH;FMTTYPE=image/jpeg:https://mtb-sulzbach.de/wp-content/uploads/Gruppenbild.jpg
END:VEVENT
END:VCALENDAR